BEGIN:VCALENDAR
VERSION:2.0
PRODID:-//PYVOBJECT//NONSGML Version 0.9.9//EN
X-WR-TIMEZONE:Africa/Johannesburg
BEGIN:VTIMEZONE
TZID:Africa/Johannesburg
BEGIN:STANDARD
DTSTART:20000101T000000
RRULE:FREQ=YEARLY;BYMONTH=1
TZNAME:SAST
TZOFFSETFROM:+0200
TZOFFSETTO:+0200
END:STANDARD
END:VTIMEZONE
BEGIN:VEVENT
UID:20260422T050432Z - 46852@eos-content
DTSTART;TZID=Africa/Johannesburg:20260424T160000
DTEND;TZID=Africa/Johannesburg:20260424T170000
ATTENDEE:MAILTO:rene@heynikeinc.co.za
ATTENDEE:MAILTO:garvin@threepercent.com
DESCRIPTION:https://www.threepercent.com/results/residential/for-sale/randb
 urg/sundowner/house/3119307/\n\nRSPV required for directions\n\nRene Ogden
  (062 951 4138)\n\nGarvin Ogden (064 504 6359)
DTSTAMP:20260422T050432Z
LOCATION:Sundowner\, Randburg
SUMMARY:3%.Com Properties Show Day - RL27540
END:VEVENT
END:VCALENDAR
